BEGIN:VCALENDAR
VERSION:2.0
PRODID:-//eventon.com NONSGML v1.0//EN
CALSCALE:GREGORIAN
METHOD:PUBLISH
BEGIN:VEVENT
UID:69ed824a4faca
DTSTAMP:20260426T031106Z
DTSTART:20190506T130000Z
DTEND:20190506T160000Z
LOCATION:1070 Wien\,  Sichtart-Zone\,  Mariahilfer Straße 112/1/9
SUMMARY:Beta-Kodex Meetup
DESCRIPTION:Offener Dialog- &amp; Lernraum rund um den Beta-Kodex in Theori
 e und Praxis. Diesmal beschäftigen wir uns mit der Beta-Kodex-Uhr und der 
 in der Broschüre „Die 12 Gesetze des Beta-Kodex“ beschriebenen Übung 
 dazu. Grundwissen zu Beta erforderlich\,  die Broschüre bildet die Grundla
 ge für diesen Nachmittag. Bitte vorab lesen. Das ist auch[..]\nhttps://www
 .sichtart.at/events/beta-kodex-meetup0519/
URL:https://www.sichtart.at/events/beta-kodex-meetup0519/
END:VEVENT
END:VCALENDAR