BEGIN:VCALENDAR
VERSION:2.0
PRODID:-//eventon.com NONSGML v1.0//EN
CALSCALE:GREGORIAN
METHOD:PUBLISH
BEGIN:VEVENT
UID:69ed596e66931
DTSTAMP:20260426T001646Z
DTSTART:20191212T150000Z
DTEND:20191212T170000Z
LOCATION:1070 Wien\,  Sichtart-Zone\,  Mariahilfer StraÃŸe 112/1/9
SUMMARY:Beta-Kodex Meetup
DESCRIPTION:Offener Dialog- &amp; Lernraum rund um den Beta-Kodex in Theori
 e und Praxis. FÃ¼r alle die sich dazu austauschen und voneinander lernen mÃ
 ¶chten!Â  You are all welcome! Der Beta-Kodex leitet sich aus der Abgrenzun
 g zur Alpha-Organisation ab. Er bietet ein alternatives Denkmodell zur Gest
 altung von Organisationen. Anstelle der herkÃ¶mmlichen pyramidalen Organisa
 tion\, [..]\nhttps://www.sichtart.at/events/events-beta-kodex-meetup-im-dez
 ember-2019/
URL:https://www.sichtart.at/events/events-beta-kodex-meetup-im-dezember-2019/
END:VEVENT
END:VCALENDAR