BEGIN:VCALENDAR
VERSION:2.0
PRODID:-//eventon.com NONSGML v1.0//EN
CALSCALE:GREGORIAN
METHOD:PUBLISH
BEGIN:VEVENT
UID:69ed7028e80b4
DTSTAMP:20260426T015344Z
DTSTART:20200323T150000Z
DTEND:20200323T170000Z
LOCATION:1070 Wien\,  Sichtart-Zone\,  Mariahilfer Straße 112/1/9
SUMMARY:Beta-Kodex Meetup | gesellschaftspolitische Relevanz
DESCRIPTION:Diesmal mit dem Fokus: Die 12 Gesetze des Beta-Kodex und deren 
 gesellschaftspolitische Relevanz! Offener Dialog- &amp; Lernraum rund um de
 n Beta-Kodex in Theorie und Praxis. Für alle die sich dazu austauschen und
  voneinander lernen möchten! You are all welcome! Der Beta-Kodex leitet si
 ch aus der Abgrenzung zur Alpha-Organisation ab. Er[..]\nhttps://www.sichta
 rt.at/events/beta-kodex-meetup-maerz-2020/
URL:https://www.sichtart.at/events/beta-kodex-meetup-maerz-2020/
END:VEVENT
END:VCALENDAR