BEGIN:VCALENDAR
VERSION:2.0
PRODID:-//eventon.com NONSGML v1.0//EN
CALSCALE:GREGORIAN
METHOD:PUBLISH
BEGIN:VEVENT
UID:69e8860956af3
DTSTAMP:20260422T082545Z
DTSTART:20200513T140000Z
DTEND:20200513T160000Z
LOCATION:Sichtart-Zone\,  1070 Wien\,  Mariahilfer Straße 112/1/9
SUMMARY:Beta-Kodex Meetup Wien\,  entfällt
DESCRIPTION:Gemeinsam am System mit Menschen arbeiten anstatt im System an 
 den Menschen arbeiten! Offener Dialog- &amp; Lernraum rund um den Beta-Kode
 x in Theorie und Praxis. Für alle die sich dazu austauschen und voneinande
 r lernen möchten! You are all welcome! Der Beta-Kodex leitet sich aus der 
 Abgrenzung zur Alpha-Organisation ab. Er[..]\nhttps://www.sichtart.at/event
 s/events-beta-kodex-meetup-052020/
URL:https://www.sichtart.at/events/events-beta-kodex-meetup-052020/
END:VEVENT
END:VCALENDAR