BEGIN:VCALENDAR
VERSION:2.0
PRODID:-//eventon.com NONSGML v1.0//EN
CALSCALE:GREGORIAN
METHOD:PUBLISH
BEGIN:VEVENT
UID:69e89fa3c83e3
DTSTAMP:20260422T101459Z
DTSTART:20200427T163000Z
DTEND:20200427T180000Z
LOCATION:1070 Wien\,  Sichtart-Zone\,  Mariahilfer Straße 112/1/9
SUMMARY:Buchpremiere Ernst Weichselbaum | Neuer Termin\,  sobald wieder gut möglich
DESCRIPTION:In jedem Unternehmen steckt ein Besseres Zeitorientierte Betrie
 bswirtschaft mit dem Weichselbaum-System Die Teilnahme ist kostenlos. Anoth
 er masterpiece by Niels Pfläging. Wiedereinmal gelingt es ihm\,  ein Buch 
 voll mit Inspirationsquellen\,  Weisheiten und Hausverstand für Zusammenar
 beit vielen Menschen zugänglich zu machen. Ab sofort kann man über den Bu
 chtitel nachdenken und bald kann[..]\nhttps://www.sichtart.at/events/buchpr
 emiere-ew-042020/
URL:https://www.sichtart.at/events/buchpremiere-ew-042020/
END:VEVENT
END:VCALENDAR