BEGIN:VCALENDAR
VERSION:2.0
PRODID:-//eventon.com NONSGML v1.0//EN
CALSCALE:GREGORIAN
METHOD:PUBLISH
BEGIN:VEVENT
UID:69ea419be74e6
DTSTAMP:20260423T155819Z
DTSTART:20200611T080000Z
DTEND:20200611T160000Z
LOCATION:Sichtart-Zone\,  1070 Wien\,  Mariahilfer StraÃŸe 112/1/9
SUMMARY:Nahtstellenvereinbarung lernen mit Ernst und Lena Weichselbaum
DESCRIPTION:Nahtstellenvereinbarungen kurieren Silodenken und Abteilungsego
 ismen und transformieren den Begriff AutoritÃ¤t. Endlich darf dann dieses s
 chÃ¶ne Wort zum Wohle aller beitrage. Denn die Nahtstellenvereinbarung ermÃ
 ¶glicht\,  dass AutoritÃ¤t sich nicht mehr als eine Eigenschaft eines Indiv
 iduums behaupten\,  gar durchsetzen muss\,  sondern in der Vereinbarung von
  Inhalten zu finden ist. Von der Schnittstelle[..]\nhttps://www.sichtart.at
 /events/events-nahtstellenvereinbarung-lernen-20200611/
URL:https://www.sichtart.at/events/events-nahtstellenvereinbarung-lernen-20200611/
END:VEVENT
END:VCALENDAR