BEGIN:VCALENDAR
VERSION:2.0
PRODID:-//eventon.com NONSGML v1.0//EN
CALSCALE:GREGORIAN
METHOD:PUBLISH
BEGIN:VEVENT
UID:69e741cf9cb06
DTSTAMP:20260421T092223Z
DTSTART:20210318T090000Z
DTEND:20210318T113000Z
LOCATION:digital via Zoom
SUMMARY:Der Workshop "Organisationsphysik zeichnend gedacht“\,  online
DESCRIPTION:Jede Organisation\,  egal welcher Größe\,  hat drei Strukture
 n. Die Wertschöpfungsstruktur\,  die Formelle Struktur und die Informelle 
 Struktur. Diese drei Strukturen leisten vollkommen Unterschiedliches und si
 nd durch die Akteur*innen einer Organisation miteinander verbunden. In jede
 r dieser drei Strukturen entwickeln sich unterschiedliche Mächte: Reputati
 on\,  Hierarchie und Einfluss.  Inhalte: Ein Grundlagenworkshop für alle[
 ..]\nhttps://www.sichtart.at/events/der-workshop-organisationsphysik-zeichn
 end-gedacht-online/
URL:https://www.sichtart.at/events/der-workshop-organisationsphysik-zeichnend-gedacht-online/
END:VEVENT
END:VCALENDAR