BEGIN:VCALENDAR
VERSION:2.0
PRODID:-//eventon.com NONSGML v1.0//EN
CALSCALE:GREGORIAN
METHOD:PUBLISH
BEGIN:VEVENT
UID:69ec04dc1d24b
DTSTAMP:20260425T000340Z
DTSTART:20210615T140000Z
DTEND:20210615T160000Z
LOCATION:Online via Zoom
SUMMARY:BetaCodex Online Meetup D-A-CH
DESCRIPTION:Es gibt viel zu tun! Am besten wir machen es gemeinsam! Willkom
 men im BetaCodex Network! In der Online-Ausgabe des BetaCodex Meetups tausc
 hen wir uns zu Themen rund um den BetaCodex\,  also Dezentralisierung\,  se
 lbstorganisierte Teamarbeit\,  Zellstrukturen und zeitgemäße Unternehmens
 führung aus. Für erfahrene Beta-Profis als auch für New-Commer*innen gee
 ignet! Wir bieten immer[..]\nhttps://www.sichtart.at/events/betacodex-onlin
 e-meetup-d-a-ch-5/
URL:https://www.sichtart.at/events/betacodex-online-meetup-d-a-ch-5/
END:VEVENT
END:VCALENDAR