BEGIN:VCALENDAR
VERSION:2.0
PRODID:-//eventon.com NONSGML v1.0//EN
CALSCALE:GREGORIAN
METHOD:PUBLISH
BEGIN:VEVENT
UID:69ed36162acf0
DTSTAMP:20260425T214558Z
DTSTART:20220118T150000Z
DTEND:20220118T170000Z
LOCATION:Online via Zoom
SUMMARY:BetaCodex Neujahrs-Meetup 01/2022
DESCRIPTION:Es gibt viel zu tun! Am besten wir machen es gemeinsam! Willkom
 men im BetaCodex Network! In der Online-Ausgabe des BetaCodex Meetups tausc
 hen wir uns zu Themen rund um den BetaCodex\,  also Dezentralisierung\,  se
 lbstorganisierte Teamarbeit\,  Zellstrukturen und zeitgemäße Unternehmens
 führung aus. Für erfahrene Beta-Profis als auch für New-Commer*innen gee
 ignet! Wir bieten immer[..]\nhttps://www.sichtart.at/events/betacodex-neuja
 hrs-meetup-01-2022/
URL:https://www.sichtart.at/events/betacodex-neujahrs-meetup-01-2022/
END:VEVENT
END:VCALENDAR