BEGIN:VCALENDAR
VERSION:2.0
PRODID:-//eventon.com NONSGML v1.0//EN
CALSCALE:GREGORIAN
METHOD:PUBLISH
BEGIN:VEVENT
UID:69ebbb2814070
DTSTAMP:20260424T184912Z
DTSTART:20220419T140000Z
DTEND:20220419T160000Z
LOCATION:Online via Zoom
SUMMARY:BetaCodex Meetup - Frühjahrsputz!
DESCRIPTION:&#8220;Frühjahrsputz!&#8221; Wie ist es bei Dir? Entscheidest 
 Du noch oder arbeitest Du schon an Organisationshygiene? Im April fokussier
 en wir uns auf das Ausmisten und Aufräumen in Organisationen. Getreu dem M
 otto “was ergibt Sinn” und “was kann weg”? Die Rede ist von unwirks
 amen Tools\,  Ritualen\,  Methoden\,  Regeln und anderen Instrumenten\,  di
 e[..]\nhttps://www.sichtart.at/events/betacodex-meetup-fruehjahrsputz/
URL:https://www.sichtart.at/events/betacodex-meetup-fruehjahrsputz/
END:VEVENT
END:VCALENDAR