BEGIN:VCALENDAR
VERSION:2.0
PRODID:-//eventon.com NONSGML v1.0//EN
CALSCALE:GREGORIAN
METHOD:PUBLISH
BEGIN:VEVENT
UID:69e741a1415fe
DTSTAMP:20260421T092137Z
DTSTART:20220517T140000Z
DTEND:20220517T160000Z
LOCATION:Online via Zoom
SUMMARY:BetaCodex Meetup "Management"
DESCRIPTION:&#8220;Management&#8221; Wie steht es um die Leistungsfähigkei
 t der Sozialtechnologie Management? Wo liegen ihre Wurzeln? Im Mai dürfen 
 wir uns passend dazu auf einen Intro-Talk im Zwiegespräch zwischen Niels P
 fläging und Peter Pröll freuen: Management-Geschichte im Diskurs: Theoret
 isch. Praktisch. Gut? Beta ist die organisatorische Denk- und Handlungsweis
 e\,  die fit für komplexe[..]\nhttps://www.sichtart.at/events/betacodex-me
 etup-management/
URL:https://www.sichtart.at/events/betacodex-meetup-management/
END:VEVENT
END:VCALENDAR