BEGIN:VCALENDAR
VERSION:2.0
PRODID:-//eventon.com NONSGML v1.0//EN
CALSCALE:GREGORIAN
METHOD:PUBLISH
BEGIN:VEVENT
UID:69e5d993554fc
DTSTAMP:20260420T074523Z
DTSTART:20220927T160000Z
DTEND:20220927T173000Z
LOCATION:online event
SUMMARY:Beta-Talk | Einblicke in eine Beta-Transformation!
DESCRIPTION:So funktioniert die Transformation in wenigen Monaten. In diese
 m Beta-Talk werden der Unternehmer Thorsten Porath\,  Geschäftsführer von
  Porath Customs Agents\,  und Silke Hermann\,  die Thorsten während der Tr
 ansformation als Beraterin und Zeremonienmeisterin zur Seite stand\,  ihre 
 Erfahrungen aus der gelungenen Transformation im Jahr 2020 und aus der Zeit
  danach mit[..]\nhttps://www.sichtart.at/events/https-www-linkedin-com-even
 ts-erfahrungsbericht-sofunktionier6973587153431707649-about/
URL:https://www.sichtart.at/events/https-www-linkedin-com-events-erfahrungsbericht-sofunktionier6973587153431707649-about/
END:VEVENT
END:VCALENDAR