BEGIN:VCALENDAR
VERSION:2.0
PRODID:-//eventon.com NONSGML v1.0//EN
CALSCALE:GREGORIAN
METHOD:PUBLISH
BEGIN:VEVENT
UID:69ed8bb10c190
DTSTAMP:20260426T035113Z
DTSTART:20240220T090000Z
DTEND:20240220T120000Z
LOCATION:online event
SUMMARY:BASIS-AUSBILDUNG TEIL 3/3: „GEMEINSAM IN BEWEGUNG KOMMEN - AKTIONSFORSCHUNG IN DER EIGENEN ORGANISATION SELBER MACHEN"\,  ONLINE
DESCRIPTION:Ihr möchtet Zusammenarbeit in der eigenen Organisation partizi
 pativ gestalten ein grundlegendes Verständnis zur Aktionsforschung entwick
 eln einen konstruktiv-kritischen Blick auf die eigene Organisation ausbauen
  gemeinsam wirksame Handlungsstrategien entwickeln Lust bekommen\,  sich we
 iter zu vertiefen BASIS-AUSBILDUNG Hier gibt es eine Basis-Ausbildung bei d
 er ihr lernt\,  wie ihr euer eigenes\,  internes Forschungsvorhaben gestalt
 en[..]\nhttps://www.sichtart.at/events/basis-workshop-teil-3-3-gemeinsam-in
 -bewegung-kommen/
URL:https://www.sichtart.at/events/basis-workshop-teil-3-3-gemeinsam-in-bewegung-kommen/
END:VEVENT
END:VCALENDAR