BEGIN:VCALENDAR
VERSION:2.0
PRODID:-//eventon.com NONSGML v1.0//EN
CALSCALE:GREGORIAN
METHOD:PUBLISH
BEGIN:VEVENT
UID:69eca88b41663
DTSTAMP:20260425T114203Z
DTSTART:20240529T130000Z
DTEND:20240529T133000Z
LOCATION:online event
SUMMARY:SICHTART-BREAK\,  im Gespräch mit Elisabeth Sechser über New Work & Führung
DESCRIPTION:Agile Leadership\,  Purpose Driven Leadership\,  Empowering Lea
 dership\,  New Leadership\,  Inviting Leadership\,  Digital Leadership\,  S
 hared Leadership\,  Servant Leadership\,  Positiv Leadership\,  Reinventing
  Leadership\,  Evolutionary Leardership\,  Future Leadership\,  Führen in 
 der Sandwich-Position\,  Cheffing\,  Leaderships Worauf man bei der Wahl de
 r Leadershipprogramme achten kann\,  was es mit dem Wunsch nach flachen Hie
 rarchien und nach[..]\nhttps://www.sichtart.at/events/events-sichtart-break
 -new-work-290524/
URL:https://www.sichtart.at/events/events-sichtart-break-new-work-290524/
END:VEVENT
END:VCALENDAR