BEGIN:VCALENDAR
VERSION:2.0
PRODID:-//eventon.com NONSGML v1.0//EN
CALSCALE:GREGORIAN
METHOD:PUBLISH
BEGIN:VEVENT
UID:69ebc29111db3
DTSTAMP:20260424T192049Z
DTSTART:20250327T150000Z
DTEND:20250327T153000Z
LOCATION:online event
SUMMARY:SICHTART-BREAK - Ã¼ber den Unterschied zwischen einer FÃ¼hrungskraft und gemeinsamer FÃ¼hrungsarbeit
DESCRIPTION:Ein Sichtart-Break rund um FÃ¼hrungskraft\,  FÃ¼hrungsleistungÂ
   und gemeinsame FÃ¼hrungsarbeit und was der Unterschied zwischen Menschenf
 Ã¼hrungskonzepten und Teamleistung ist.Â  Frau Franziska Zoidl vom DerStand
 ard wollte von mir meine Sicht auf Elon Musk FÃ¼hrungsstil wissen. Ein paar
  AuszÃ¼ge aus unserem lÃ¤ngeren GesprÃ¤ch Ã¼ber Elon Musk\,  Demokratieschw
 Ã¤chung\,  FÃ¼hrungsstile und FÃ¼hrungsarbeit findet ihr in[..]\nhttps://ww
 w.sichtart.at/events/sichtart-break-fuhrungskraft-und-gemeinsame-fuhrungsar
 beit/
URL:https://www.sichtart.at/events/sichtart-break-fuhrungskraft-und-gemeinsame-fuhrungsarbeit/
END:VEVENT
END:VCALENDAR