BEGIN:VCALENDAR
VERSION:2.0
PRODID:-//eventon.com NONSGML v1.0//EN
CALSCALE:GREGORIAN
METHOD:PUBLISH
BEGIN:VEVENT
UID:69eb44069d641
DTSTAMP:20260424T102054Z
DTSTART:20260310T160000Z
DTEND:20260310T190000Z
LOCATION:1070 Wien\,  Sichtart-Zone\,  Mariahilfer Straße 112/1/9
SUMMARY:PHILOSOPHISCHER SALON\,   Autonomie und Angewiesenheit\,  live
DESCRIPTION:Autonomie und Angewiesenheit – ein philosophischer Salon Auto
 nomie gilt als zentrales Ideal moderner Gesellschaften und Arbeitswelten. Z
 ugleich sind wir als Menschen grundlegend aufeinander angewiesen – verlet
 zlich\,  abhängig und relational. Wie lassen sich Selbstbestimmung und Ang
 ewiesenheit zusammendenken? Und was bedeutet das für Zusammenarbeit\,  Ver
 antwortung und Führung in Teams?  In diesem Philosophischen[..]\nhttps://
 www.sichtart.at/events/philosophischer-salon-autonomie-und-angewiesenheit-l
 ive/
URL:https://www.sichtart.at/events/philosophischer-salon-autonomie-und-angewiesenheit-live/
END:VEVENT
END:VCALENDAR