BEGIN:VCALENDAR
VERSION:2.0
PRODID:-//eventon.com NONSGML v1.0//EN
CALSCALE:GREGORIAN
METHOD:PUBLISH
BEGIN:VEVENT
UID:69ec94e3b701b
DTSTAMP:20260425T101811Z
DTSTART:20170909T100000Z
DTEND:20170909T113000Z
LOCATION:Museum der bildenden Künste Katharinenstraße 10\,  04109 Leipzig
SUMMARY:art4reflection | leipzig
DESCRIPTION:Wir freuen uns auf Ihre Teilnahme und einen inspirierenden Muse
 umsbesuch! Zur Anmeldung senden Sie bitte eine E-Mail mit Angabe Ihres Wuns
 chtermines an julia.spreng@sichtart.at Anschließend senden wir Ihnen alle
  weiteren Details zum Ablauf zu. Die Rechnung erhalten Sie von uns nach der
  Veranstaltung per Post.\nhttps://www.sichtart.at/events/art4reflection-3/
URL:https://www.sichtart.at/events/art4reflection-3/
END:VEVENT
END:VCALENDAR