BEGIN:VCALENDAR
VERSION:2.0
PRODID:-//eventon.com NONSGML v1.0//EN
CALSCALE:GREGORIAN
METHOD:PUBLISH
BEGIN:VEVENT
UID:69e5f9532eb48
DTSTAMP:20260420T100051Z
DTSTART:20180114T120000Z
DTEND:20180114T133000Z
LOCATION:Museum Kunstpalast Ehrenhof 4-5\,  40479 Düsseldorf\,  Deutschland
SUMMARY:art4reflection | düsseldorf
DESCRIPTION:Wir freuen uns auf Ihre Teilnahme und einen inspirierenden Muse
 umsbesuch! Zur Anmeldung senden Sie bitte eine E-Mail mit Angabe Ihres Wuns
 chtermines an julia.spreng@sichtart.at Anschließend senden wir Ihnen alle 
 weiteren Details zum Ablauf zu. Die Rechnung erhalten Sie von uns nach der 
 Veranstaltung per Post.\nhttps://www.sichtart.at/events/art4reflection-dues
 seldorf-2/
URL:https://www.sichtart.at/events/art4reflection-duesseldorf-2/
END:VEVENT
END:VCALENDAR