BEGIN:VCALENDAR
VERSION:2.0
PRODID:-//eventon.com NONSGML v1.0//EN
CALSCALE:GREGORIAN
METHOD:PUBLISH
BEGIN:VEVENT
UID:69eae82785ac7
DTSTAMP:20260424T034855Z
DTSTART:20180307T163000Z
DTEND:20180307T180000Z
LOCATION:Kunsthaus Zürich Heimplatz 1\,  8001 Zürich\,  Schweiz
SUMMARY:art4reflection | zürich
DESCRIPTION:Wir freuen uns auf Ihre Teilnahme und einen inspirierenden Muse
 umsbesuch! Zur Anmeldung senden Sie bitte eine E-Mail mit Angabe Ihres Wuns
 chtermines an julia.spreng@sichtart.at Anschließend senden wir Ihnen alle 
 weiteren Details zum Ablauf zu. Die Rechnung erhalten Sie von uns nach der 
 Veranstaltung per Post.\nhttps://www.sichtart.at/events/art4reflection-zuer
 ich-3/
URL:https://www.sichtart.at/events/art4reflection-zuerich-3/
END:VEVENT
END:VCALENDAR